BEGIN:VCALENDAR
VERSION:2.0
PRODID:icalendar-ruby
CALSCALE:GREGORIAN
BEGIN:VEVENT
DTSTAMP:20210224T074356Z
UID:acb00c0d-b111-4d92-bbdc-edabd2eb254d
DTSTART;VALUE=DATE:20200815
DESCRIPTION:Property ID# 643336\, Time: 12:30PM
SUMMARY:Auction for 
END:VEVENT
END:VCALENDAR
