BEGIN:VCALENDAR
VERSION:2.0
PRODID:icalendar-ruby
CALSCALE:GREGORIAN
BEGIN:VEVENT
DTSTAMP:20210224T074706Z
UID:3d3624ac-df80-4036-b4d2-b13c98245ab1
DTSTART;VALUE=DATE:20200822
DESCRIPTION:Property ID# 643730\, Locatoin: On Site\, Time: 11:00AM
SUMMARY:Auction for 
END:VEVENT
END:VCALENDAR
