BEGIN:VCALENDAR
VERSION:2.0
PRODID:icalendar-ruby
CALSCALE:GREGORIAN
BEGIN:VEVENT
DTSTAMP:20210224T074350Z
UID:58c95148-97aa-4692-b25b-647a42c4b116
DTSTART;VALUE=DATE:20201128
DESCRIPTION:Property ID# 660381\, Locatoin: On site\, Time: 9:45AM
SUMMARY:Auction for 
END:VEVENT
END:VCALENDAR
