BEGIN:VCALENDAR
VERSION:2.0
PRODID:icalendar-ruby
CALSCALE:GREGORIAN
BEGIN:VEVENT
DTSTAMP:20210224T074349Z
UID:0e7f9b36-728b-4d57-a1e6-15594dd550d8
DTSTART;VALUE=DATE:20210220
DESCRIPTION:Property ID# 667746\, Time: 9:00AM
SUMMARY:Auction for 63 Turriell Point Road
END:VEVENT
END:VCALENDAR
